BEGIN:VCALENDAR
VERSION:2.0
PRODID:-//wp-events-plugin.com//7.2.3.1//EN
TZID:Europe/Berlin
X-WR-TIMEZONE:Europe/Berlin
BEGIN:VEVENT
UID:694@altamann.com
DTSTART;TZID=Europe/Berlin:20251227T200000
DTEND;TZID=Europe/Berlin:20251227T223000
DTSTAMP:20251217T182659Z
URL:https://altamann.com/events/lenard-streicher-band-4/
SUMMARY:Lenard Streicher Band
DESCRIPTION:Lenard Streicher Band - Eigene und klassische Jazz-\, Swing-\, 
 Rock´n Roll-\, Blues-\, Boogie-\, Rockabilly Titel. 
ATTACH;FMTTYPE=image/jpeg:https://altamann.com/wp-content/uploads/2023/02/
 Lenard-Streicher-Band.webp
LOCATION:Yorckschlösschen\, Yorckstraße 15\, 10965 Berlin\, Deutschland
X-APPLE-STRUCTURED-LOCATION;VALUE=URI;X-ADDRESS=Yorckstraße 15\, 10965 Ber
 lin\, Deutschland;X-APPLE-RADIUS=100;X-TITLE=Yorckschlösschen:geo:0,0
END:VEVENT
BEGIN:VTIMEZONE
TZID:Europe/Berlin
X-LIC-LOCATION:Europe/Berlin
BEGIN:STANDARD
DTSTART:20251026T020000
TZOFFSETFROM:+0200
TZOFFSETTO:+0100
TZNAME:CET
END:STANDARD
END:VTIMEZONE
END:VCALENDAR