BEGIN:VCALENDAR
VERSION:2.0
PRODID:-//wp-events-plugin.com//7.2.3.1//EN
TZID:Europe/Berlin
X-WR-TIMEZONE:Europe/Berlin
BEGIN:VEVENT
UID:1414@altamann.com
DTSTART;TZID=Europe/Berlin:20260321T200000
DTEND;TZID=Europe/Berlin:20260321T220000
DTSTAMP:20260311T085415Z
URL:https://altamann.com/events/liedigk-die-energie/
SUMMARY:LIEDIGK & DIE ENERGIE
DESCRIPTION:LIEDIGK & DIE ENERGIE - Der Neuköllner Sänger und Gitarrist S
 tephan LIEDIGK präsentiert mit seiner Dreiköpfige Begleitband Lieder aus
  seinem eigenen Fundus. Großartige\, vertonte kleine Geschichten über di
 e ganz großen Themen des Lebens.
ATTACH;FMTTYPE=image/jpeg:https://altamann.com/wp-content/uploads/2026/03/
 Liedigk-Die-Energie-21.3.26.webp
LOCATION:Swart | Bier & Weinlokal\, Dreysestraße 17\, 10559 Berlin\, Deuts
 chland
X-APPLE-STRUCTURED-LOCATION;VALUE=URI;X-ADDRESS=Dreysestraße 17\, 10559 Be
 rlin\, Deutschland;X-APPLE-RADIUS=100;X-TITLE=Swart | Bier & Weinlokal:geo
 :0,0
END:VEVENT
BEGIN:VTIMEZONE
TZID:Europe/Berlin
X-LIC-LOCATION:Europe/Berlin
BEGIN:STANDARD
DTSTART:20251026T020000
TZOFFSETFROM:+0200
TZOFFSETTO:+0100
TZNAME:CET
END:STANDARD
END:VTIMEZONE
END:VCALENDAR