BEGIN:VCALENDAR
VERSION:2.0
PRODID:-//wp-events-plugin.com//7.2.3.1//EN
TZID:Europe/Berlin
X-WR-TIMEZONE:Europe/Berlin
BEGIN:VEVENT
UID:811@altamann.com
DTSTART;TZID=Europe/Berlin:20240601T203000
DTEND;TZID=Europe/Berlin:20240601T230000
DTSTAMP:20240321T175203Z
URL:https://altamann.com/events/lord-zeppelin/
SUMMARY:Lord Zeppelin – A Tribute To Led Zeppelin
DESCRIPTION:Lord Zeppelin - Es gibt viele gute Cover-Bands\, aber nur wenig
 e die den Anspruch an Authentizität so erfüllen wie LORD ZEPPELIN aus Be
 rlin. Die vier Profimusiker versprühen die wahre Essenz und den Geist der
  Kultband Led Zeppelin.
ATTACH;FMTTYPE=image/jpeg:https://altamann.com/wp-content/uploads/2024/01/
 Lord-Zeppelin.webp
LOCATION:Hafenbar Tegel\, Wilkestraße 1-5\, 13507 Berlin\, Deutschland
X-APPLE-STRUCTURED-LOCATION;VALUE=URI;X-ADDRESS=Wilkestraße 1-5\, 13507 Be
 rlin\, Deutschland;X-APPLE-RADIUS=100;X-TITLE=Hafenbar Tegel:geo:0,0
END:VEVENT
BEGIN:VTIMEZONE
TZID:Europe/Berlin
X-LIC-LOCATION:Europe/Berlin
BEGIN:DAYLIGHT
DTSTART:20240331T030000
TZOFFSETFROM:+0100
TZOFFSETTO:+0200
TZNAME:CEST
END:DAYLIGHT
END:VTIMEZONE
END:VCALENDAR