BEGIN:VCALENDAR
VERSION:2.0
PRODID:-//wp-events-plugin.com//7.2.3.1//EN
TZID:Europe/Berlin
X-WR-TIMEZONE:Europe/Berlin
BEGIN:VEVENT
UID:417@altamann.com
DTSTART;TZID=Europe/Berlin:20230503T200000
DTEND;TZID=Europe/Berlin:20230503T223000
DTSTAMP:20230414T230431Z
URL:https://altamann.com/events/lorenz-und-das-taschenbluesorchester/
SUMMARY:Lorenz und das Taschenbluesorchester
DESCRIPTION:Lorenz und das Taschenbluesorchester - Das Motto des - Lorenz u
 nd das Taschenbluesorchester - lautet: „Designed for the small Audience.
  No Drums. No Bass. Finest Boom Cheeka Bar Room Rhythm ’n’ Blues power
 ed by TASCHENBLUESORCHESTER. Let the GOOD TIMES roll\, folks\, and listen 
 to some smooth and cool urban blues tunes – with this wonderful little b
 lues band in town!” 
ATTACH;FMTTYPE=image/jpeg:https://altamann.com/wp-content/uploads/2023/04/
 Lorenz-das-Taschenbluesorchester-Foto-taschenbluesorchester.de_.webp
LOCATION:Yorckschlösschen\, Yorckstraße 15\, 10965 Berlin\, Deutschland
X-APPLE-STRUCTURED-LOCATION;VALUE=URI;X-ADDRESS=Yorckstraße 15\, 10965 Ber
 lin\, Deutschland;X-APPLE-RADIUS=100;X-TITLE=Yorckschlösschen:geo:0,0
END:VEVENT
BEGIN:VTIMEZONE
TZID:Europe/Berlin
X-LIC-LOCATION:Europe/Berlin
BEGIN:DAYLIGHT
DTSTART:20230326T030000
TZOFFSETFROM:+0100
TZOFFSETTO:+0200
TZNAME:CEST
END:DAYLIGHT
END:VTIMEZONE
END:VCALENDAR