BEGIN:VCALENDAR
VERSION:2.0
PRODID:-//wp-events-plugin.com//7.2.3.1//EN
TZID:Europe/Berlin
X-WR-TIMEZONE:Europe/Berlin
BEGIN:VEVENT
UID:989@altamann.com
DTSTART;TZID=Europe/Berlin:20241111T120000
DTEND;TZID=Europe/Berlin:20241111T230000
DTSTAMP:20240925T173348Z
URL:https://altamann.com/events/martinsgans-essen-im-kulturrestaurant-dick
 e-paula/
SUMMARY:Martinsgans-Essen im Kulturrestaurant Dicke Paula
DESCRIPTION:Martinsgans-Essen - Zum Start der Gänsesaison - Menü 55\,-€
  p.P. - Zum Kulturrestaurant Dicke Paula » » https://dicke-paula.de/ - F
 ür diese Veranstaltung sind Tickets erforderlich und die gibts nur in der
  Dicken Paula oder unter www.dicke-paula.de/reservierung !
ATTACH;FMTTYPE=image/jpeg:https://altamann.com/wp-content/uploads/2024/06/
 Kulturrestaurant-Dicke-Paula.webp
LOCATION:Kulturrestaurant Dicke Paula\, Schlieperstraße 69\, 13507 Berlin\
 , Deutschland
X-APPLE-STRUCTURED-LOCATION;VALUE=URI;X-ADDRESS=Schlieperstraße 69\, 13507
  Berlin\, Deutschland;X-APPLE-RADIUS=100;X-TITLE=Kulturrestaurant Dicke Pa
 ula:geo:0,0
END:VEVENT
BEGIN:VTIMEZONE
TZID:Europe/Berlin
X-LIC-LOCATION:Europe/Berlin
BEGIN:STANDARD
DTSTART:20241027T020000
TZOFFSETFROM:+0200
TZOFFSETTO:+0100
TZNAME:CET
END:STANDARD
END:VTIMEZONE
END:VCALENDAR