BEGIN:VCALENDAR
VERSION:2.0
PRODID:-//wp-events-plugin.com//7.2.3.1//EN
TZID:Europe/Berlin
X-WR-TIMEZONE:Europe/Berlin
BEGIN:VEVENT
UID:815@altamann.com
DTSTART;TZID=Europe/Berlin:20240320T200000
DTEND;TZID=Europe/Berlin:20240320T220000
DTSTAMP:20240111T154619Z
URL:https://altamann.com/events/mary-broadcast-indie-pop-rock/
SUMMARY:Mary Broadcast - Indie-Pop-Rock
DESCRIPTION:Mary Broadcast\, Popkünstlerin mit eigenem Charakter und eigen
 er Vorstellung\, liefert mit ihren Songs eindrucksvoll den Beweis\, dass T
 iefgang und Pop bestens miteinander funktionieren. Als Solistin baut sie m
 it ihrer Gitarre Soundwelten auf\, türmt sich mal laut und wild\, mal lei
 se und zerbrechlich über ihr Publikum. Darüber schwebt ihre zarte und zu
 gleich mächtige und intensive Stimme. Mary Broadcast entfesselt sich und 
 alle mit ihren Songs. Diese zierliche Frau Solo live auf der Bühne ist un
 d bleibt ein besonderes Erlebnis!
ATTACH;FMTTYPE=image/jpeg:https://altamann.com/wp-content/uploads/2024/01/
 Mary-Broadcast.webp
LOCATION:ART Stalker\, Kaiser-Friedrich-Straße 67\, 10627 Berlin\, Deutsch
 land
X-APPLE-STRUCTURED-LOCATION;VALUE=URI;X-ADDRESS=Kaiser-Friedrich-Straße 67
 \, 10627 Berlin\, Deutschland;X-APPLE-RADIUS=100;X-TITLE=ART Stalker:geo:0
 ,0
END:VEVENT
BEGIN:VTIMEZONE
TZID:Europe/Berlin
X-LIC-LOCATION:Europe/Berlin
BEGIN:STANDARD
DTSTART:20231029T020000
TZOFFSETFROM:+0200
TZOFFSETTO:+0100
TZNAME:CET
END:STANDARD
END:VTIMEZONE
END:VCALENDAR