BEGIN:VCALENDAR
VERSION:2.0
PRODID:-//wp-events-plugin.com//7.2.3.1//EN
TZID:Europe/Berlin
X-WR-TIMEZONE:Europe/Berlin
BEGIN:VEVENT
UID:912@altamann.com
DTSTART;TZID=Europe/Berlin:20240413T200000
DTEND;TZID=Europe/Berlin:20240413T223000
DTSTAMP:20240413T121340Z
URL:https://altamann.com/events/matthias-harig-jazzband/
SUMMARY:Matthias Harig Jazzband
DESCRIPTION:Matthias Harig Jazzband ist keiner stilistischen Richtung unter
 worfen\; sie ist eher eine repräsentative Auswahl der musikalischen Vorli
 eben des Bandleaders\, die sich im Laufe langjährigen Erfahrung-Sammelns 
 herauskristallisiert haben.\n
ATTACH;FMTTYPE=image/jpeg:https://altamann.com/wp-content/uploads/2022/08/
 Matthias-Harig-Quintett-Live.webp
LOCATION:Yorckschlösschen\, Yorckstraße 15\, 10965 Berlin\, Deutschland
X-APPLE-STRUCTURED-LOCATION;VALUE=URI;X-ADDRESS=Yorckstraße 15\, 10965 Ber
 lin\, Deutschland;X-APPLE-RADIUS=100;X-TITLE=Yorckschlösschen:geo:0,0
END:VEVENT
BEGIN:VTIMEZONE
TZID:Europe/Berlin
X-LIC-LOCATION:Europe/Berlin
BEGIN:DAYLIGHT
DTSTART:20240331T030000
TZOFFSETFROM:+0100
TZOFFSETTO:+0200
TZNAME:CEST
END:DAYLIGHT
END:VTIMEZONE
END:VCALENDAR