BEGIN:VCALENDAR
VERSION:2.0
PRODID:-//wp-events-plugin.com//7.2.3.1//EN
TZID:Europe/Berlin
X-WR-TIMEZONE:Europe/Berlin
BEGIN:VEVENT
UID:965@altamann.com
DTSTART;TZID=Europe/Berlin:20240718T200000
DTEND;TZID=Europe/Berlin:20240718T220000
DTSTAMP:20240715T071121Z
URL:https://altamann.com/events/max-goedecke-live-in-concert-broke-but-hap
 py-at-lake-success-tour-2024/
SUMMARY:Max Goedecke Live in Concert: Broke\, but happy (at Lake Success) T
 our 2024
DESCRIPTION:Max Goedecke - Der Kölner Singer-Songwriter Max Goedecke wird 
 an dem Abend sein neues Folk-Rock Album "Broke\, but happy (at Lake Succes
 s)" präsentieren\, mit dessen ersten Singles er bereits beim Davoser Song
 bird / Singing City Festival im Dezember 2023 erste Erfolge erzielen konnt
 e. Irgendwo zwischen Eifeler Dorfleben und Kölner Südstadt Feeling tinge
 lt Max täglich mit seiner Gitarre zwischen Voreifel und Kölner Speckgür
 tel rum\, um den Menschen seine Straßenmusik darzubieten.
ATTACH;FMTTYPE=image/jpeg:https://altamann.com/wp-content/uploads/2024/06/
 Max-Goedecke.webp
LOCATION:ART Stalker\, Kaiser-Friedrich-Straße 67\, 10627 Berlin\, Deutsch
 land
X-APPLE-STRUCTURED-LOCATION;VALUE=URI;X-ADDRESS=Kaiser-Friedrich-Straße 67
 \, 10627 Berlin\, Deutschland;X-APPLE-RADIUS=100;X-TITLE=ART Stalker:geo:0
 ,0
END:VEVENT
BEGIN:VTIMEZONE
TZID:Europe/Berlin
X-LIC-LOCATION:Europe/Berlin
BEGIN:DAYLIGHT
DTSTART:20240331T030000
TZOFFSETFROM:+0100
TZOFFSETTO:+0200
TZNAME:CEST
END:DAYLIGHT
END:VTIMEZONE
END:VCALENDAR