BEGIN:VCALENDAR
VERSION:2.0
PRODID:-//wp-events-plugin.com//7.2.3.1//EN
TZID:Europe/Berlin
X-WR-TIMEZONE:Europe/Berlin
BEGIN:VEVENT
UID:697@altamann.com
DTSTART;TZID=Europe/Berlin:20240628T200000
DTEND;TZID=Europe/Berlin:20240628T233000
DTSTAMP:20240322T190700Z
URL:https://altamann.com/events/midlife-2/
SUMMARY:MIDLIFE | Rhythm`n`Roll aus Berlin
DESCRIPTION:MIDLIFE steht für handgemachte Rockklassiker\, Spaß und Party
  vor und auf der Bühne seit über 30 Jahren! Sechs Musiker mit langjähri
 ger Bühnenerfahrung bieten mitreißende und energiegeladene Livemusik mit
  Leidenschaft und unbändiger Spielfreude.
ATTACH;FMTTYPE=image/jpeg:https://altamann.com/wp-content/uploads/2023/05/
 Midlife.webp
LOCATION:Hafenbar Tegel\, Wilkestraße 1-5\, 13507 Berlin\, Deutschland
X-APPLE-STRUCTURED-LOCATION;VALUE=URI;X-ADDRESS=Wilkestraße 1-5\, 13507 Be
 rlin\, Deutschland;X-APPLE-RADIUS=100;X-TITLE=Hafenbar Tegel:geo:0,0
END:VEVENT
BEGIN:VTIMEZONE
TZID:Europe/Berlin
X-LIC-LOCATION:Europe/Berlin
BEGIN:DAYLIGHT
DTSTART:20240331T030000
TZOFFSETFROM:+0100
TZOFFSETTO:+0200
TZNAME:CEST
END:DAYLIGHT
END:VTIMEZONE
END:VCALENDAR