BEGIN:VCALENDAR
VERSION:2.0
PRODID:-//wp-events-plugin.com//7.2.3.1//EN
TZID:Europe/Berlin
X-WR-TIMEZONE:Europe/Berlin
BEGIN:VEVENT
UID:1158@altamann.com
DTSTART;TZID=Europe/Berlin:20241214T200000
DTEND;TZID=Europe/Berlin:20241214T220000
DTSTAMP:20241205T195702Z
URL:https://altamann.com/events/mojo-wranglers/
SUMMARY:Mojo Wranglers
DESCRIPTION:Mojo Wranglers - Machen Sie sich bereit\, den elektrisierenden 
 Sound der Mojo Wranglers zu erleben. Einem funky Powerhouse-Blues-Trio\, d
 as aus den außergewöhnlichen Talenten von Leo Karl Pogodda an Gesang und
  Gitarre\, Roberto Badoglio am Bass und Marcel van Cleef am Schlagzeug und
  Gesang besteht.
ATTACH;FMTTYPE=image/jpeg:https://altamann.com/wp-content/uploads/2024/12/
 Mojo-Wranglers-Foto-Facebookaccount-der-Band.webp
LOCATION:Swart | Bier & Weinlokal\, Dreysestraße 17\, 10559 Berlin\, Deuts
 chland
X-APPLE-STRUCTURED-LOCATION;VALUE=URI;X-ADDRESS=Dreysestraße 17\, 10559 Be
 rlin\, Deutschland;X-APPLE-RADIUS=100;X-TITLE=Swart | Bier & Weinlokal:geo
 :0,0
END:VEVENT
BEGIN:VTIMEZONE
TZID:Europe/Berlin
X-LIC-LOCATION:Europe/Berlin
BEGIN:STANDARD
DTSTART:20241027T020000
TZOFFSETFROM:+0200
TZOFFSETTO:+0100
TZNAME:CET
END:STANDARD
END:VTIMEZONE
END:VCALENDAR