BEGIN:VCALENDAR
VERSION:2.0
PRODID:-//wp-events-plugin.com//7.2.3.1//EN
TZID:Europe/Berlin
X-WR-TIMEZONE:Europe/Berlin
BEGIN:VEVENT
UID:1157@altamann.com
DTSTART;TZID=Europe/Berlin:20241207T200000
DTEND;TZID=Europe/Berlin:20241207T220000
DTSTAMP:20241205T194250Z
URL:https://altamann.com/events/monica-saba-julien-jatoba/
SUMMARY:Monica Saba & Julien Jatoba
DESCRIPTION:Monica Saba & Julien Jatoba - Monica Saba\, a First class Voice
 . A diverse Repertoire of Jazz-Soul and Bossanova Julien Jatoba (Gitarre)
ATTACH;FMTTYPE=image/jpeg:https://altamann.com/wp-content/uploads/2024/12/
 Monica-Saba-Julien-Jatoba-Foto-Band-Youtube.webp
LOCATION:Swart | Bier & Weinlokal\, Dreysestraße 17\, 10559 Berlin\, Deuts
 chland
X-APPLE-STRUCTURED-LOCATION;VALUE=URI;X-ADDRESS=Dreysestraße 17\, 10559 Be
 rlin\, Deutschland;X-APPLE-RADIUS=100;X-TITLE=Swart | Bier & Weinlokal:geo
 :0,0
END:VEVENT
BEGIN:VTIMEZONE
TZID:Europe/Berlin
X-LIC-LOCATION:Europe/Berlin
BEGIN:STANDARD
DTSTART:20241027T020000
TZOFFSETFROM:+0200
TZOFFSETTO:+0100
TZNAME:CET
END:STANDARD
END:VTIMEZONE
END:VCALENDAR