BEGIN:VCALENDAR
VERSION:2.0
PRODID:-//wp-events-plugin.com//7.2.3.1//EN
TZID:Europe/Berlin
X-WR-TIMEZONE:Europe/Berlin
BEGIN:VEVENT
UID:1272@altamann.com
DTSTART;TZID=Europe/Berlin:20251205T210000
DTEND;TZID=Europe/Berlin:20251205T233000
DTSTAMP:20250725T172247Z
URL:https://altamann.com/events/mr-police-im-musicclub-schmoelln/
SUMMARY:Mr. POLICE im MusicClub Schmölln
DESCRIPTION:Mr. POLICE im MusicClub Schmölln - 1992 kam ich (Krummi/Andy K
 ) aus Bayern zurück (1988-1992 Volleyballprofi 2. Bundesliga)\, und hatte
  prompt einen Auftritt (18.12.1992 Mulsum Rockfestival) aber noch keine Ba
 nd. Heute blicken wir auf wirklich spaßige Zeiten zurück. Neben einigen 
 Live-Mitschnitten\, haben wir auch eine Doppel CD (Best of) und eine „Ha
 ppy Birthday Boris“ Live-CD gemacht\, die sich wirklich gut hören lasse
 n! Auch eine „25 Jahre Mr. POLICE“ DVD wurde von mir erstellt und zum 
 25 jährigen Jubiläum unter die Leute gebracht.
ATTACH;FMTTYPE=image/jpeg:https://altamann.com/wp-content/uploads/2025/07/
 Mr.-Police-im-MusicClub-Schmoelln-05.12.2025.webp
LOCATION:MusicClub Schmölln\, An der Sprotte 5/1\, 04626 Schmölln \, Deut
 schland
X-APPLE-STRUCTURED-LOCATION;VALUE=URI;X-ADDRESS=An der Sprotte 5/1\, 04626 
 Schmölln \, Deutschland;X-APPLE-RADIUS=100;X-TITLE=MusicClub Schmölln:ge
 o:0,0
END:VEVENT
BEGIN:VTIMEZONE
TZID:Europe/Berlin
X-LIC-LOCATION:Europe/Berlin
BEGIN:STANDARD
DTSTART:20251026T020000
TZOFFSETFROM:+0200
TZOFFSETTO:+0100
TZNAME:CET
END:STANDARD
END:VTIMEZONE
END:VCALENDAR