BEGIN:VCALENDAR
VERSION:2.0
PRODID:-//wp-events-plugin.com//7.2.3.1//EN
TZID:Europe/Berlin
X-WR-TIMEZONE:Europe/Berlin
BEGIN:VEVENT
UID:324@altamann.com
DTSTART;TZID=Europe/Berlin:20251121T210000
DTEND;TZID=Europe/Berlin:20251121T233000
DTSTAMP:20250725T172559Z
URL:https://altamann.com/events/muddy-what/
SUMMARY:Muddy What im MusicClub Schmölln
DESCRIPTION:Muddy What im MusicClub Schmölln - MUDDY WHAT? steht für NEW 
 BLUES. Die drei jungen Musiker aus München und Nürnberg verpassen der tr
 aditionellen Stilrichtung eine moderne\, erfrischende und unverwechselbare
  Note. ‍- GEWINNER der GERMAN BLUES CHALLENGE 2021 - Wabernde Delta-Soun
 ds\, funky Beats\, filigrane Balladen und dann wieder stampfender Blues: D
 as Trio zeigt sich facettenreich und mit dynamischem Leichtsinn.
ATTACH;FMTTYPE=image/jpeg:https://altamann.com/wp-content/uploads/2023/02/
 Muddy-What-im-MusicClub-Schmoelln-21.11.2025.webp
LOCATION:MusicClub Schmölln\, An der Sprotte 5/1\, 04626 Schmölln \, Deut
 schland
X-APPLE-STRUCTURED-LOCATION;VALUE=URI;X-ADDRESS=An der Sprotte 5/1\, 04626 
 Schmölln \, Deutschland;X-APPLE-RADIUS=100;X-TITLE=MusicClub Schmölln:ge
 o:0,0
END:VEVENT
BEGIN:VTIMEZONE
TZID:Europe/Berlin
X-LIC-LOCATION:Europe/Berlin
BEGIN:STANDARD
DTSTART:20251026T020000
TZOFFSETFROM:+0200
TZOFFSETTO:+0100
TZNAME:CET
END:STANDARD
END:VTIMEZONE
END:VCALENDAR