BEGIN:VCALENDAR
VERSION:2.0
PRODID:-//wp-events-plugin.com//7.2.3.1//EN
TZID:Europe/Berlin
X-WR-TIMEZONE:Europe/Berlin
BEGIN:VEVENT
UID:855@altamann.com
DTSTART;TZID=Europe/Berlin:20240228T203000
DTEND;TZID=Europe/Berlin:20240228T230000
DTSTAMP:20240207T183526Z
URL:https://altamann.com/events/nasty-ratz-cz-melodic-hard-rock/
SUMMARY:NASTY RATZ (CZ) – Melodic Hard Rock
DESCRIPTION:NASTY RATZ  - Die Inspiration war ziemlich klar. Nasty Ratz wer
 den oft als „Bastardkind“ von KISS und Guns N'Roses beschrieben. Unnö
 tig zu sagen\, dass Nasty Ratz schon immer ihre eigene Musik machen wollte
 n. Es dauerte nur wenige Monate und NASTY RATZ spielten mit ihren Vorbilde
 rn in ganz Europa. Ende 2019 veröffentlichten NASTY RATZ ihr zweites Albu
 m namens "Second Chance". Das Album hat positive Kritiken auf der ganzen W
 elt erhalten. 
ATTACH;FMTTYPE=image/jpeg:https://altamann.com/wp-content/uploads/2024/02/
 Nasty-Ratz.webp
LOCATION:Hafenbar Tegel\, Wilkestraße 1-5\, 13507 Berlin\, Deutschland
X-APPLE-STRUCTURED-LOCATION;VALUE=URI;X-ADDRESS=Wilkestraße 1-5\, 13507 Be
 rlin\, Deutschland;X-APPLE-RADIUS=100;X-TITLE=Hafenbar Tegel:geo:0,0
END:VEVENT
BEGIN:VTIMEZONE
TZID:Europe/Berlin
X-LIC-LOCATION:Europe/Berlin
BEGIN:STANDARD
DTSTART:20231029T020000
TZOFFSETFROM:+0200
TZOFFSETTO:+0100
TZNAME:CET
END:STANDARD
END:VTIMEZONE
END:VCALENDAR