BEGIN:VCALENDAR
VERSION:2.0
PRODID:-//wp-events-plugin.com//7.2.3.1//EN
TZID:Europe/Berlin
X-WR-TIMEZONE:Europe/Berlin
BEGIN:VEVENT
UID:590@altamann.com
DTSTART;TZID=Europe/Berlin:20240524T203000
DTEND;TZID=Europe/Berlin:20240524T230000
DTSTAMP:20240511T150244Z
URL:https://altamann.com/events/neuendorf/
SUMMARY:Neuendorf
DESCRIPTION:Neuendorf - … ist erdiger Rock mit Blueseinschlag. Der Sound 
 erinnert oft an alte Haudegen wie Stones\, Westernhagen\, Black Crowes usw
 . Die Texte sind deutsch und aus dem Leben gegriffen. 
ATTACH;FMTTYPE=image/jpeg:https://altamann.com/wp-content/uploads/2023/08/
 Neuendorf-by-Paul-Vogler-1.webp
LOCATION:Hafenbar Tegel\, Wilkestraße 1-5\, 13507 Berlin\, Deutschland
X-APPLE-STRUCTURED-LOCATION;VALUE=URI;X-ADDRESS=Wilkestraße 1-5\, 13507 Be
 rlin\, Deutschland;X-APPLE-RADIUS=100;X-TITLE=Hafenbar Tegel:geo:0,0
END:VEVENT
BEGIN:VTIMEZONE
TZID:Europe/Berlin
X-LIC-LOCATION:Europe/Berlin
BEGIN:DAYLIGHT
DTSTART:20240331T030000
TZOFFSETFROM:+0100
TZOFFSETTO:+0200
TZNAME:CEST
END:DAYLIGHT
END:VTIMEZONE
END:VCALENDAR