BEGIN:VCALENDAR
VERSION:2.0
PRODID:-//wp-events-plugin.com//7.2.3.1//EN
TZID:Europe/Berlin
X-WR-TIMEZONE:Europe/Berlin
BEGIN:VEVENT
UID:1372@altamann.com
DTSTART;TZID=Europe/Berlin:20260502T190000
DTEND;TZID=Europe/Berlin:20260502T214500
DTSTAMP:20260326T123809Z
URL:https://altamann.com/events/norman-beaker-trio-the-bluesman-from-manch
 ester-uk-blues-hall-of-fame-member/
SUMMARY:Norman Beaker Trio | The Bluesman from Manchester Live! (UK) - Blue
 s Hall Of Fame Member
DESCRIPTION:Norman Beaker Trio - BB King kommentierte: „Norman ist wie ei
 n weißer Freddy King“! Ein großes Kompliment und nicht verschwendet\, 
 denkt man an die vielen Künstler\, mit denen Norman im Laufe seiner Karri
 ere zusammenarbeitete. Darunter waren z.B. BB King\, Jimmy Rogers\, Buddy 
 Guy\, Lowell Fulson\, Alexis Korner\, Van Morrison\, Fenton Robinson\, Chu
 ck Berry \, Carey Bell\, James Booker\, Jon Lord und Ruby Turner.
ATTACH;FMTTYPE=image/jpeg:https://altamann.com/wp-content/uploads/2024/02/
 Norman-Beaker-Trio-1.-2.-Mai-2026-im-Kulturrestaurant-Dicke-Paula.webp
LOCATION:Kulturrestaurant Dicke Paula\, Schlieperstraße 69\, 13507 Berlin\
 , Deutschland
X-APPLE-STRUCTURED-LOCATION;VALUE=URI;X-ADDRESS=Schlieperstraße 69\, 13507
  Berlin\, Deutschland;X-APPLE-RADIUS=100;X-TITLE=Kulturrestaurant Dicke Pa
 ula:geo:0,0
END:VEVENT
BEGIN:VTIMEZONE
TZID:Europe/Berlin
X-LIC-LOCATION:Europe/Berlin
BEGIN:DAYLIGHT
DTSTART:20260329T030000
TZOFFSETFROM:+0100
TZOFFSETTO:+0200
TZNAME:CEST
END:DAYLIGHT
END:VTIMEZONE
END:VCALENDAR