BEGIN:VCALENDAR
VERSION:2.0
PRODID:-//wp-events-plugin.com//7.2.3.1//EN
TZID:Europe/Berlin
X-WR-TIMEZONE:Europe/Berlin
BEGIN:VEVENT
UID:321@altamann.com
DTSTART;TZID=Europe/Berlin:20230526T190000
DTEND;TZID=Europe/Berlin:20230526T220000
DTSTAMP:20230214T195603Z
URL:https://altamann.com/events/peter-gabriel-i-o-the-tour/
SUMMARY:Peter Gabriel  |  i/o - The Tour
DESCRIPTION:Im Rahmen der i/o The Tour wird Peter Gabriel neue Songs seines
  nächsten Albums ebenso präsentieren wie Songs seines unvergleichlichen 
 Musikkatalogs mit Hits und Fan-Favoriten sowie Unerwartetem. Auf seinen Ko
 nzerten wird Gabriel von seinen regulären Bandgefährten Tony Levin\, Dav
 id Rhodes und Manu Katche begleitet. "Es ist schon eine ganze Weile her u
 nd ich bin jetzt erfüllt von vielen neuen Songs"\, sagte Peter Gabriel au
 s Anlass der Tourveröffentlichung. "Ich freue mich sehr darauf\, sie live
  zu performen und Euch da draußen zu sehen."
ATTACH;FMTTYPE=image/jpeg:https://altamann.com/wp-content/uploads/2023/02/
 Peter-Gabriel.webp
LOCATION:Waldbühne Berlin im Olympiapark\, Glockenturmstraße 1\, 14053 Be
 rlin \, Deutschland
X-APPLE-STRUCTURED-LOCATION;VALUE=URI;X-ADDRESS=Glockenturmstraße 1\, 1405
 3 Berlin \, Deutschland;X-APPLE-RADIUS=100;X-TITLE=Waldbühne Berlin im Ol
 ympiapark:geo:0,0
END:VEVENT
BEGIN:VTIMEZONE
TZID:Europe/Berlin
X-LIC-LOCATION:Europe/Berlin
BEGIN:DAYLIGHT
DTSTART:20230326T030000
TZOFFSETFROM:+0100
TZOFFSETTO:+0200
TZNAME:CEST
END:DAYLIGHT
END:VTIMEZONE
END:VCALENDAR