BEGIN:VCALENDAR
VERSION:2.0
PRODID:-//wp-events-plugin.com//7.2.3.1//EN
TZID:Europe/Berlin
X-WR-TIMEZONE:Europe/Berlin
BEGIN:VEVENT
UID:812@altamann.com
DTSTART;TZID=Europe/Berlin:20240126T200000
DTEND;TZID=Europe/Berlin:20240126T220000
DTSTAMP:20240117T122133Z
URL:https://altamann.com/events/pina-berlin/
SUMMARY:Pina Berlin Release Party - Back im Kiez
DESCRIPTION:Pina Berlin begann ihre musikalische Reise in Istanbul und zog 
 2010 mit 19 nach Berlin\, um ihrer Leidenschaft für die Musik nachzugehen
 . Angefangen mit Schulbands\, Theater und Organisieren der Abschlußkonzer
 te an ihrer Schule studierte sie klassischen und Jazz-Gesang in Istanbul\,
  Berlin und Massachusetts und spielt Saxophon und Ukulele. 
ATTACH;FMTTYPE=image/jpeg:https://altamann.com/wp-content/uploads/2024/01/
 Pina-Berlin.webp
LOCATION:ART Stalker\, Kaiser-Friedrich-Straße 67\, 10627 Berlin\, Deutsch
 land
X-APPLE-STRUCTURED-LOCATION;VALUE=URI;X-ADDRESS=Kaiser-Friedrich-Straße 67
 \, 10627 Berlin\, Deutschland;X-APPLE-RADIUS=100;X-TITLE=ART Stalker:geo:0
 ,0
END:VEVENT
BEGIN:VTIMEZONE
TZID:Europe/Berlin
X-LIC-LOCATION:Europe/Berlin
BEGIN:STANDARD
DTSTART:20231029T020000
TZOFFSETFROM:+0200
TZOFFSETTO:+0100
TZNAME:CET
END:STANDARD
END:VTIMEZONE
END:VCALENDAR