BEGIN:VCALENDAR
VERSION:2.0
PRODID:-//wp-events-plugin.com//7.2.3.1//EN
TZID:Europe/Berlin
X-WR-TIMEZONE:Europe/Berlin
BEGIN:VEVENT
UID:413@altamann.com
DTSTART;TZID=Europe/Berlin:20230628T183000
DTEND;TZID=Europe/Berlin:20230628T220000
DTSTAMP:20230530T204133Z
URL:https://altamann.com/events/pnk-summer-carnival-2023/
SUMMARY:P!NK – Summer Carnival 2023
DESCRIPTION:Bei ihrem Debüt in den späten 90er Jahren entwickelte P!NK sc
 hnell ihre eigene Identität\, indem sie Pop-Songwriting und eine kraftvol
 le\, von Rock beeinflusste Stimme in eine einzigartige und erfolgreiche Ko
 mbination verwandelte\, die sie jahrzehntelang in den Top Ten hielt. Mit e
 iner Reihe von Nummer-eins-Singles und Millionen von verkauften Alben und 
 Eintrittskarten weltweit ist P!NK eine der kommerziell erfolgreichsten Pop
 künstlerinnen der Welt.
ATTACH;FMTTYPE=image/jpeg:https://altamann.com/wp-content/uploads/2023/04/
 PNK-28.6.23.webp
LOCATION:Olympiastadion Berlin\, Olympischer Platz 3\, 14053 Berlin\, Deuts
 chland
X-APPLE-STRUCTURED-LOCATION;VALUE=URI;X-ADDRESS=Olympischer Platz 3\, 14053
  Berlin\, Deutschland;X-APPLE-RADIUS=100;X-TITLE=Olympiastadion Berlin:geo
 :0,0
END:VEVENT
BEGIN:VTIMEZONE
TZID:Europe/Berlin
X-LIC-LOCATION:Europe/Berlin
BEGIN:DAYLIGHT
DTSTART:20230326T030000
TZOFFSETFROM:+0100
TZOFFSETTO:+0200
TZNAME:CEST
END:DAYLIGHT
END:VTIMEZONE
END:VCALENDAR