BEGIN:VCALENDAR
VERSION:2.0
PRODID:-//wp-events-plugin.com//7.2.3.1//EN
TZID:Europe/Berlin
X-WR-TIMEZONE:Europe/Berlin
BEGIN:VEVENT
UID:813@altamann.com
DTSTART;TZID=Europe/Berlin:20240525T203000
DTEND;TZID=Europe/Berlin:20240525T230000
DTSTAMP:20240321T175425Z
URL:https://altamann.com/events/pretty-buzz-blues-und-rock-der-50er-bis-80
 er-jahre/
SUMMARY:Pretty Buzz - Blues und Rock der 50er bis 80er Jahre
DESCRIPTION:Pretty Buzz - Die 5 Longlife-Musiker mit Sängerin Angelika bri
 ngen wieder eine bunte Mischung aus Rhythm & Blues\, Funk\, Rock und Jazz 
 der Rock- und Pop-Größen ihrer Jugend auf die Bühne. Pretty Buzz steht 
 für den bewegenden Kick\, den leichten Schwips\, den herrlichen Lärm –
  mit Angelika Putnik (voc\, perc)\, Franz de Bÿl (voc\, git)\, Christian 
 Woyke (kb)\, Michael „Shorty“ Kurzmann (voc\, git)\, Hardy Bechmann (b
 \, voc ) und RamWam Wappler (dr).
ATTACH;FMTTYPE=image/jpeg:https://altamann.com/wp-content/uploads/2024/01/
 Pretty-Buzz.webp
LOCATION:Hafenbar Tegel\, Wilkestraße 1-5\, 13507 Berlin\, Deutschland
X-APPLE-STRUCTURED-LOCATION;VALUE=URI;X-ADDRESS=Wilkestraße 1-5\, 13507 Be
 rlin\, Deutschland;X-APPLE-RADIUS=100;X-TITLE=Hafenbar Tegel:geo:0,0
END:VEVENT
BEGIN:VTIMEZONE
TZID:Europe/Berlin
X-LIC-LOCATION:Europe/Berlin
BEGIN:DAYLIGHT
DTSTART:20240331T030000
TZOFFSETFROM:+0100
TZOFFSETTO:+0200
TZNAME:CEST
END:DAYLIGHT
END:VTIMEZONE
END:VCALENDAR