BEGIN:VCALENDAR
VERSION:2.0
PRODID:-//wp-events-plugin.com//7.2.3.1//EN
TZID:Europe/Berlin
X-WR-TIMEZONE:Europe/Berlin
BEGIN:VEVENT
UID:689@altamann.com
DTSTART;TZID=Europe/Berlin:20231216T200000
DTEND;TZID=Europe/Berlin:20231216T223000
DTSTAMP:20231121T190719Z
URL:https://altamann.com/events/pugsley-buzzard-wateringcan-band/
SUMMARY:Pugsley Buzzard Wateringcan Band
DESCRIPTION:Pugsley Buzzard Wateringcan Band - Pugsley Buzzard’s Komposit
 ionen erzählen von Vagabunden\, die vom Leben gezeichnet sind und singen 
 die Lieder der entwurzelten Troubadoure. Puglsleys rauer Bariton geht unte
 r die Haut und lässt jeden\, der ein Herz in der Brust trägt\, die Liebe
  zum Leben und die lodernde Flamme der Leidenschaft erleben. 
ATTACH;FMTTYPE=image/jpeg:https://altamann.com/wp-content/uploads/2023/11/
 Pugsly-Buzzard-Wateringcane-Band.webp
LOCATION:Yorckschlösschen\, Yorckstraße 15\, 10965 Berlin\, Deutschland
X-APPLE-STRUCTURED-LOCATION;VALUE=URI;X-ADDRESS=Yorckstraße 15\, 10965 Ber
 lin\, Deutschland;X-APPLE-RADIUS=100;X-TITLE=Yorckschlösschen:geo:0,0
END:VEVENT
BEGIN:VTIMEZONE
TZID:Europe/Berlin
X-LIC-LOCATION:Europe/Berlin
BEGIN:STANDARD
DTSTART:20231029T020000
TZOFFSETFROM:+0200
TZOFFSETTO:+0100
TZNAME:CET
END:STANDARD
END:VTIMEZONE
END:VCALENDAR