BEGIN:VCALENDAR
VERSION:2.0
PRODID:-//wp-events-plugin.com//7.2.3.1//EN
TZID:Europe/Berlin
X-WR-TIMEZONE:Europe/Berlin
BEGIN:VEVENT
UID:412@altamann.com
DTSTART;TZID=Europe/Berlin:20230412T200000
DTEND;TZID=Europe/Berlin:20230412T220000
DTSTAMP:20230410T162658Z
URL:https://altamann.com/events/quentin-tarantino/
SUMMARY:Quentin Tarantino
DESCRIPTION:Der Oscar-prämierte Filmemacher\, New York Times Bestselleraut
 or und leidenschaftliche Filmliebhaber Quentin Tarantino feiert die Veröf
 fentlichung seines langerwarteten Sachbuchdebüts Cinema Speculation mit e
 inem seltenen Live-Event im Berliner Admiralspalast.
ATTACH;FMTTYPE=image/jpeg:https://altamann.com/wp-content/uploads/2023/04/
 Quentin-Tarantino.webp
LOCATION:Admiralspalast\, Friedrichstraße 101\, 10117 Berlin\, Deutschland
X-APPLE-STRUCTURED-LOCATION;VALUE=URI;X-ADDRESS=Friedrichstraße 101\, 1011
 7 Berlin\, Deutschland;X-APPLE-RADIUS=100;X-TITLE=Admiralspalast:geo:0,0
END:VEVENT
BEGIN:VTIMEZONE
TZID:Europe/Berlin
X-LIC-LOCATION:Europe/Berlin
BEGIN:DAYLIGHT
DTSTART:20230326T030000
TZOFFSETFROM:+0100
TZOFFSETTO:+0200
TZNAME:CEST
END:DAYLIGHT
END:VTIMEZONE
END:VCALENDAR