BEGIN:VCALENDAR
VERSION:2.0
PRODID:-//wp-events-plugin.com//7.2.3.1//EN
TZID:Europe/Berlin
X-WR-TIMEZONE:Europe/Berlin
BEGIN:VEVENT
UID:963@altamann.com
DTSTART;TZID=Europe/Berlin:20240627T200000
DTEND;TZID=Europe/Berlin:20240627T220000
DTSTAMP:20240626T184821Z
URL:https://altamann.com/events/ralph-de-jongh/
SUMMARY:Ralph de Jongh - Roadtrippin Blues Party
DESCRIPTION:Ralph de Jongh - Das wird ein ganz besonderer Abend! Ralph de J
 ongh geht so unglaublich tief in seiner Musik auf\, das es berührt\, das 
 zu sehen und zu hören. Er nimmt einen mit auf einen Trip mit eigenen neue
 n Liedern voll Soul\, Blues\, rauh wie die Rolling Stones\, dicht an Led Z
 eppelin\, dann wieder grenzenlos alles übersteigend. Tanzend auf dem Vulk
 an und in Trance von diesem Soul Blues!
ATTACH;FMTTYPE=image/jpeg:https://altamann.com/wp-content/uploads/2024/06/
 Ralph-de-Jongh.webp
LOCATION:ART Stalker\, Kaiser-Friedrich-Straße 67\, 10627 Berlin\, Deutsch
 land
X-APPLE-STRUCTURED-LOCATION;VALUE=URI;X-ADDRESS=Kaiser-Friedrich-Straße 67
 \, 10627 Berlin\, Deutschland;X-APPLE-RADIUS=100;X-TITLE=ART Stalker:geo:0
 ,0
END:VEVENT
BEGIN:VTIMEZONE
TZID:Europe/Berlin
X-LIC-LOCATION:Europe/Berlin
BEGIN:DAYLIGHT
DTSTART:20240331T030000
TZOFFSETFROM:+0100
TZOFFSETTO:+0200
TZNAME:CEST
END:DAYLIGHT
END:VTIMEZONE
END:VCALENDAR