BEGIN:VCALENDAR
VERSION:2.0
PRODID:-//wp-events-plugin.com//7.2.3.1//EN
TZID:Europe/Berlin
X-WR-TIMEZONE:Europe/Berlin
BEGIN:VEVENT
UID:814@altamann.com
DTSTART;TZID=Europe/Berlin:20240209T193000
DTEND;TZID=Europe/Berlin:20240209T220000
DTSTAMP:20240111T153014Z
URL:https://altamann.com/events/rock-59-partyhits-aus-59-jahrzehnten/
SUMMARY:ROCK 59 - Partyhits aus 5\,9 Jahrzehnten!
DESCRIPTION:Rock 59 - Spaß haben und Spaß verbreiten\, so lautet unser Mo
 tto. Das Publikum wird Teil der Show. Mitsingen\, Mitklatschen\, Mittanzen
  und Mitträumen sind angesagt. In klassischer Besetzung mit Gitarre\, Bas
 s\, Schlagzeug\, Keyboards\, Saxophon und Gesang erklingen die Hits aus de
 n 50er Jahren. 
ATTACH;FMTTYPE=image/jpeg:https://altamann.com/wp-content/uploads/2024/01/
 Rock-59-Band.webp
LOCATION:ART Stalker\, Kaiser-Friedrich-Straße 67\, 10627 Berlin\, Deutsch
 land
X-APPLE-STRUCTURED-LOCATION;VALUE=URI;X-ADDRESS=Kaiser-Friedrich-Straße 67
 \, 10627 Berlin\, Deutschland;X-APPLE-RADIUS=100;X-TITLE=ART Stalker:geo:0
 ,0
END:VEVENT
BEGIN:VTIMEZONE
TZID:Europe/Berlin
X-LIC-LOCATION:Europe/Berlin
BEGIN:STANDARD
DTSTART:20231029T020000
TZOFFSETFROM:+0200
TZOFFSETTO:+0100
TZNAME:CET
END:STANDARD
END:VTIMEZONE
END:VCALENDAR