BEGIN:VCALENDAR
VERSION:2.0
PRODID:-//wp-events-plugin.com//7.2.3.1//EN
TZID:Europe/Berlin
X-WR-TIMEZONE:Europe/Berlin
BEGIN:VEVENT
UID:1161@altamann.com
DTSTART;TZID=Europe/Berlin:20250111T180000
DTEND;TZID=Europe/Berlin:20250112T020000
DTSTAMP:20250106T113555Z
URL:https://altamann.com/events/rockradio-de-feiert-geburtstag-im-maschine
 nhaus-der-berliner-kulturbrauerei-2005-2025-20-jahre-on-air/
SUMMARY:Rockradio.de feiert Geburtstag im Maschinenhaus der Berliner Kultur
 brauerei | 2005 – 2025 – 20 Jahre On Air! | Beginn 18:00 Uhr
DESCRIPTION:Rockradio.de - Wir feiern unseren 20. Geburtstag am 11.01.2025 
 ab 18:00 Uhr im Maschinenhaus der Berliner Kulturbrauerei. Eintritt frei /
  Spenden erwünscht - Geplant sind Interviews\, Live-Musik von Weggefährt
 en und Freunden des rockradio.de sowie ein Versteigerung.
ATTACH;FMTTYPE=image/jpeg:https://altamann.com/wp-content/uploads/2024/12/
 Rockradio.de-Einladung-11.01.2025.webp
LOCATION:Kesselhaus | Maschinenhaus in der Kulturbrauerei Berlin\, Knaackst
 raße 97\, 10435 Berlin\, Deutschland
X-APPLE-STRUCTURED-LOCATION;VALUE=URI;X-ADDRESS=Knaackstraße 97\, 10435 Be
 rlin\, Deutschland;X-APPLE-RADIUS=100;X-TITLE=Kesselhaus | Maschinenhaus i
 n der Kulturbrauerei Berlin:geo:0,0
END:VEVENT
BEGIN:VTIMEZONE
TZID:Europe/Berlin
X-LIC-LOCATION:Europe/Berlin
BEGIN:STANDARD
DTSTART:20241027T020000
TZOFFSETFROM:+0200
TZOFFSETTO:+0100
TZNAME:CET
END:STANDARD
END:VTIMEZONE
END:VCALENDAR