BEGIN:VCALENDAR
VERSION:2.0
PRODID:-//wp-events-plugin.com//7.2.3.1//EN
TZID:Europe/Berlin
X-WR-TIMEZONE:Europe/Berlin
BEGIN:VEVENT
UID:846@altamann.com
DTSTART;TZID=Europe/Berlin:20240302T203000
DTEND;TZID=Europe/Berlin:20240302T230000
DTSTAMP:20240203T154816Z
URL:https://altamann.com/events/ron-spielman-trio-ab-sofort-im-vorverkauf/
SUMMARY:Ron Spielman Trio  +++ AB SOFORT IM VORVERKAUF! +++
DESCRIPTION:Ron Spielman bereist seit 20 Jahren die Musikwelt. Als Entdecke
 r entlang der Grenzen von Singer/Songwriter\, Blues\, Jazz\, Fusion\, Rock
 \, Pop und Folk bleibt er bei aller Ohrwurm-Melodik kantig\, immer auf dem
  schmalen Grat zwischen Zugänglichkeit und Tiefe wandelnd.
ATTACH;FMTTYPE=image/jpeg:https://altamann.com/wp-content/uploads/2024/02/
 Ron-Spielman.webp
LOCATION:Hafenbar Tegel\, Wilkestraße 1-5\, 13507 Berlin\, Deutschland
X-APPLE-STRUCTURED-LOCATION;VALUE=URI;X-ADDRESS=Wilkestraße 1-5\, 13507 Be
 rlin\, Deutschland;X-APPLE-RADIUS=100;X-TITLE=Hafenbar Tegel:geo:0,0
END:VEVENT
BEGIN:VTIMEZONE
TZID:Europe/Berlin
X-LIC-LOCATION:Europe/Berlin
BEGIN:STANDARD
DTSTART:20231029T020000
TZOFFSETFROM:+0200
TZOFFSETTO:+0100
TZNAME:CET
END:STANDARD
END:VTIMEZONE
END:VCALENDAR