BEGIN:VCALENDAR
VERSION:2.0
PRODID:-//wp-events-plugin.com//7.2.3.1//EN
TZID:Europe/Berlin
X-WR-TIMEZONE:Europe/Berlin
BEGIN:VEVENT
UID:446@altamann.com
DTSTART;TZID=Europe/Berlin:20230422T200000
DTEND;TZID=Europe/Berlin:20230422T220000
DTSTAMP:20230417T195327Z
URL:https://altamann.com/events/singsing/
SUMMARY:Die 120 Jahre SingSing-Party – erst Singen\, dann Party
DESCRIPTION:SingSing - Die 120 Jahre SingSing-Party – erst Singen\, dann 
 Party - Erst wird gecroont\, gekreischt und geshoutet\, bis sich die Balke
 n biegen und man mittendrin ist und nicht nur dabei. Von Abba bis AC/DC\, 
 von Hans Albers bis Iggy Pop: Mit Kontrabass\, Gitarre und anderem Gerät 
 spielt sich das Duo durch die großen Songs der Weltgeschichte und singt m
 it allen gemeinsam die Lieder\, die jeder kennt.
ATTACH;FMTTYPE=image/jpeg:https://altamann.com/wp-content/uploads/2023/04/
 SingSing.webp
LOCATION:ART Stalker\, Kaiser-Friedrich-Straße 67\, 10627 Berlin\, Deutsch
 land
X-APPLE-STRUCTURED-LOCATION;VALUE=URI;X-ADDRESS=Kaiser-Friedrich-Straße 67
 \, 10627 Berlin\, Deutschland;X-APPLE-RADIUS=100;X-TITLE=ART Stalker:geo:0
 ,0
END:VEVENT
BEGIN:VTIMEZONE
TZID:Europe/Berlin
X-LIC-LOCATION:Europe/Berlin
BEGIN:DAYLIGHT
DTSTART:20230326T030000
TZOFFSETFROM:+0100
TZOFFSETTO:+0200
TZNAME:CEST
END:DAYLIGHT
END:VTIMEZONE
END:VCALENDAR