BEGIN:VCALENDAR
VERSION:2.0
PRODID:-//wp-events-plugin.com//7.2.3.1//EN
TZID:Europe/Berlin
X-WR-TIMEZONE:Europe/Berlin
BEGIN:VEVENT
UID:335@altamann.com
DTSTART;TZID=Europe/Berlin:20230421T200000
DTEND;TZID=Europe/Berlin:20230421T220000
DTSTAMP:20230414T220839Z
URL:https://altamann.com/events/slivovitsa/
SUMMARY:Ślivovitsā
DESCRIPTION:Das Programm ihrer musikalischen Reise umfasst Melodien aus Pol
 en\, Weißrussland\, der Ukraine\, Russland\, Ungarn und Rumänien\; es be
 sticht nicht zuletzt durch Klezmer- und Tzigan-Akzente. Das vielfältig-dy
 namische Klanguniversum von Ślivovitsā versetzt unmittelbar in Feierstim
 mung.
ATTACH;FMTTYPE=image/jpeg:https://altamann.com/wp-content/uploads/2023/02/
 Slivovitsa.webp
LOCATION:ART Stalker\, Kaiser-Friedrich-Straße 67\, 10627 Berlin\, Deutsch
 land
X-APPLE-STRUCTURED-LOCATION;VALUE=URI;X-ADDRESS=Kaiser-Friedrich-Straße 67
 \, 10627 Berlin\, Deutschland;X-APPLE-RADIUS=100;X-TITLE=ART Stalker:geo:0
 ,0
END:VEVENT
BEGIN:VTIMEZONE
TZID:Europe/Berlin
X-LIC-LOCATION:Europe/Berlin
BEGIN:DAYLIGHT
DTSTART:20230326T030000
TZOFFSETFROM:+0100
TZOFFSETTO:+0200
TZNAME:CEST
END:DAYLIGHT
END:VTIMEZONE
END:VCALENDAR