BEGIN:VCALENDAR
VERSION:2.0
PRODID:-//wp-events-plugin.com//7.2.3.1//EN
TZID:Europe/Berlin
X-WR-TIMEZONE:Europe/Berlin
BEGIN:VEVENT
UID:241@altamann.com
DTSTART;TZID=Europe/Berlin:20231021T200000
DTEND;TZID=Europe/Berlin:20231021T220000
DTSTAMP:20230530T205554Z
URL:https://altamann.com/events/staubkind-da-ist-immer-noch-mein-herz-tour
 -2023/
SUMMARY:Staubkind | Da ist immer noch mein Herz – Tour 2023
DESCRIPTION:Da war und ist immer noch mein Herz\, das mir sagt\, dass ich w
 eiter Träume fangen soll.“ Nach über 2 Jahren in absoluter Ausnahmes
 ituation und gefühltem allgemeinen Stillstand kehrt Louis Manke mit sein
 em Projekt Staubkind im Herbst 2023 mit jeder Menge Hunger auf das einziga
 rtige Konzert-Gefühl wieder auf Deutschlands Bühnen zurück. Mit dem 
 6. Studioalbum im Gepäck brennt der Berliner Sänger und Gitarrist dara
 uf\, wieder live Geschichten zu erzählen\, für einzigartige Gänsehau
 tmomente zu sorgen und mit seinem Publikum Staubkind-Träume zu teilen.
ATTACH;FMTTYPE=image/jpeg:https://altamann.com/wp-content/uploads/2023/01/
 Staubkind.webp
LOCATION:Hole 44\, Hermannstraße 146\, 12051 Berlin\, Deutschland
X-APPLE-STRUCTURED-LOCATION;VALUE=URI;X-ADDRESS=Hermannstraße 146\, 12051 
 Berlin\, Deutschland;X-APPLE-RADIUS=100;X-TITLE=Hole 44:geo:0,0
END:VEVENT
BEGIN:VTIMEZONE
TZID:Europe/Berlin
X-LIC-LOCATION:Europe/Berlin
BEGIN:DAYLIGHT
DTSTART:20230326T030000
TZOFFSETFROM:+0100
TZOFFSETTO:+0200
TZNAME:CEST
END:DAYLIGHT
END:VTIMEZONE
END:VCALENDAR