BEGIN:VCALENDAR
VERSION:2.0
PRODID:-//wp-events-plugin.com//7.2.3.1//EN
TZID:Europe/Berlin
X-WR-TIMEZONE:Europe/Berlin
BEGIN:VEVENT
UID:547@altamann.com
DTSTART;TZID=Europe/Berlin:20230816T190000
DTEND;TZID=Europe/Berlin:20230816T213000
DTSTAMP:20230726T130905Z
URL:https://altamann.com/events/steve-und-trotter-live/
SUMMARY:Steve und Trotter Live - zur - Das Quartier Latin Buch - Lesung mit
  Henry Steinhau
DESCRIPTION:Steve und Trotter Live - zur - Das Quartier Latin Buch - Lesung
  mit Henry Steinhau im Kurt Mühlenhaupt Museum
ATTACH;FMTTYPE=image/jpeg:https://altamann.com/wp-content/uploads/2023/07/
 Steve-und-Trotter-16.8.2023.webp
LOCATION:Kurt Mühlenhaupt Museum\, Fidicinstraße 40\, 10965 Berlin\, Deut
 schland
X-APPLE-STRUCTURED-LOCATION;VALUE=URI;X-ADDRESS=Fidicinstraße 40\, 10965 B
 erlin\, Deutschland;X-APPLE-RADIUS=100;X-TITLE=Kurt Mühlenhaupt Museum:ge
 o:0,0
END:VEVENT
BEGIN:VTIMEZONE
TZID:Europe/Berlin
X-LIC-LOCATION:Europe/Berlin
BEGIN:DAYLIGHT
DTSTART:20230326T030000
TZOFFSETFROM:+0100
TZOFFSETTO:+0200
TZNAME:CEST
END:DAYLIGHT
END:VTIMEZONE
END:VCALENDAR