BEGIN:VCALENDAR
VERSION:2.0
PRODID:-//wp-events-plugin.com//7.2.3.1//EN
TZID:Europe/Berlin
X-WR-TIMEZONE:Europe/Berlin
BEGIN:VEVENT
UID:1437@altamann.com
DTSTART;TZID=Europe/Berlin:20260417T200000
DTEND;TZID=Europe/Berlin:20260417T220000
DTSTAMP:20260417T074819Z
URL:https://altamann.com/events/sushi-for-bob-pop-und-rock-aus-berlin/
SUMMARY:Sushi for Bob! - Pop und Rock aus Berlin
DESCRIPTION:Sushi for Bob! - Pop und Rock aus Berlin - „Love Is a Killer
 “ – wer kennt ihn nicht? Sushi for Bob: Indiepop trifft Rock\, Funk & 
 Punk. Bunt\, laut\, Leben pur. Come on!
ATTACH;FMTTYPE=image/jpeg:https://altamann.com/wp-content/uploads/2026/04/
 Sushi-for-Bob.webp
LOCATION:ART Stalker\, Kaiser-Friedrich-Straße 67\, 10627 Berlin\, Deutsch
 land
X-APPLE-STRUCTURED-LOCATION;VALUE=URI;X-ADDRESS=Kaiser-Friedrich-Straße 67
 \, 10627 Berlin\, Deutschland;X-APPLE-RADIUS=100;X-TITLE=ART Stalker:geo:0
 ,0
END:VEVENT
BEGIN:VTIMEZONE
TZID:Europe/Berlin
X-LIC-LOCATION:Europe/Berlin
BEGIN:DAYLIGHT
DTSTART:20260329T030000
TZOFFSETFROM:+0100
TZOFFSETTO:+0200
TZNAME:CEST
END:DAYLIGHT
END:VTIMEZONE
END:VCALENDAR