BEGIN:VCALENDAR
VERSION:2.0
PRODID:-//wp-events-plugin.com//7.2.3.1//EN
TZID:Europe/Berlin
X-WR-TIMEZONE:Europe/Berlin
BEGIN:VEVENT
UID:1159@altamann.com
DTSTART;TZID=Europe/Berlin:20241221T200000
DTEND;TZID=Europe/Berlin:20241221T220000
DTSTAMP:20241205T201007Z
URL:https://altamann.com/events/swazzou/
SUMMARY:SWAZZOU
DESCRIPTION:SWAZZOU - Den letzten Abend mit Livemusik in diesem Jahr übern
 immt Monique mit Ihre Band SWAZZOU. Swing\, Jazz und Soul aus Berlin - Die
  Berliner Jazzband SWAZZOU um die Sängerin Monique ter Steege zeichnet si
 ch durch ausgesprochen individuelle Arrangements und feinfühlige Bearbeit
 ungen von Klassikern der modernen Musikgeschichte aus.
ATTACH;FMTTYPE=image/jpeg:https://altamann.com/wp-content/uploads/2024/12/
 SWAZZOU-Foto-Facebookaccount-der-Band.webp
LOCATION:Swart | Bier & Weinlokal\, Dreysestraße 17\, 10559 Berlin\, Deuts
 chland
X-APPLE-STRUCTURED-LOCATION;VALUE=URI;X-ADDRESS=Dreysestraße 17\, 10559 Be
 rlin\, Deutschland;X-APPLE-RADIUS=100;X-TITLE=Swart | Bier & Weinlokal:geo
 :0,0
END:VEVENT
BEGIN:VTIMEZONE
TZID:Europe/Berlin
X-LIC-LOCATION:Europe/Berlin
BEGIN:STANDARD
DTSTART:20241027T020000
TZOFFSETFROM:+0200
TZOFFSETTO:+0100
TZNAME:CET
END:STANDARD
END:VTIMEZONE
END:VCALENDAR