BEGIN:VCALENDAR
VERSION:2.0
PRODID:-//wp-events-plugin.com//7.2.3.1//EN
TZID:Europe/Berlin
X-WR-TIMEZONE:Europe/Berlin
BEGIN:VEVENT
UID:881@altamann.com
DTSTART;TZID=Europe/Berlin:20240316T200000
DTEND;TZID=Europe/Berlin:20240316T220000
DTSTAMP:20240310T102310Z
URL:https://altamann.com/events/the-containers/
SUMMARY:The Containers going Irish 🍀
DESCRIPTION:The Containers - Was passiert wenn man 3 Musiker\, eine Schallp
 latten Sammlung und etwas Holz in ein Container sperrt? Ein Sonntag Nachmi
 ttag im Biergarten. Das klingt doch verlockend.
ATTACH;FMTTYPE=image/jpeg:https://altamann.com/wp-content/uploads/2024/03/
 The-Containers-16.3.24-Cafe-Lutetia.webp
LOCATION:Café Lutetia\, 13597 Jüdenstraße 10\, Berlin\, Deutschland
X-APPLE-STRUCTURED-LOCATION;VALUE=URI;X-ADDRESS=13597 Jüdenstraße 10\, Be
 rlin\, Deutschland;X-APPLE-RADIUS=100;X-TITLE=Café Lutetia:geo:0,0
END:VEVENT
BEGIN:VTIMEZONE
TZID:Europe/Berlin
X-LIC-LOCATION:Europe/Berlin
BEGIN:STANDARD
DTSTART:20231029T020000
TZOFFSETFROM:+0200
TZOFFSETTO:+0100
TZNAME:CET
END:STANDARD
END:VTIMEZONE
END:VCALENDAR