BEGIN:VCALENDAR
VERSION:2.0
PRODID:-//wp-events-plugin.com//7.2.3.1//EN
TZID:Europe/Berlin
X-WR-TIMEZONE:Europe/Berlin
BEGIN:VEVENT
UID:347@altamann.com
DTSTART;TZID=Europe/Berlin:20230505T200000
DTEND;TZID=Europe/Berlin:20230505T223000
DTSTAMP:20230414T230941Z
URL:https://altamann.com/events/the-linewalkers-trio-johnny-cash-tribute-b
 and/
SUMMARY:The Linewalkers Trio | Johnny Cash Tribute- Band
DESCRIPTION:The Linewalkers Trio - Um das Leben eines Mannes mit all seiner
  Hingabe zur Musik\, seinen Botschaften\, seiner großen Liebe\, seinem Ve
 rmächtnis erzählen zu können\, braucht es viel Zeit. Das Trio aus Kiel 
 versucht es an einem Abend. Sie spielen sich seit 2012 deutschlandweit in 
 die begeisterten Herzen der Fans des „King of Country“ und seiner Musi
 k. Die mitreißende Liveshow von „Walk The Line“ über „Get Rhythm
 “ und „Jackson“ bis hin zu „Hurt“ nimmt den Zuschauer mit auf ei
 ne Zeitreise durch die revolutionierende und legendäre Musik des Johnny C
 ash.
ATTACH;FMTTYPE=image/jpeg:https://altamann.com/wp-content/uploads/2023/02/
 The-Linewalkers.webp
LOCATION:STUDIO7 PANKETAL\, Alt Zepernick 7\, 16341 Panketal\, Deutschland
X-APPLE-STRUCTURED-LOCATION;VALUE=URI;X-ADDRESS=Alt Zepernick 7\, 16341 Pan
 ketal\, Deutschland;X-APPLE-RADIUS=100;X-TITLE=STUDIO7 PANKETAL:geo:0,0
END:VEVENT
BEGIN:VTIMEZONE
TZID:Europe/Berlin
X-LIC-LOCATION:Europe/Berlin
BEGIN:DAYLIGHT
DTSTART:20230326T030000
TZOFFSETFROM:+0100
TZOFFSETTO:+0200
TZNAME:CEST
END:DAYLIGHT
END:VTIMEZONE
END:VCALENDAR