BEGIN:VCALENDAR
VERSION:2.0
PRODID:-//wp-events-plugin.com//7.2.3.1//EN
TZID:Europe/Berlin
X-WR-TIMEZONE:Europe/Berlin
BEGIN:VEVENT
UID:692@altamann.com
DTSTART;TZID=Europe/Berlin:20241206T200000
DTEND;TZID=Europe/Berlin:20241206T223000
DTSTAMP:20241130T194741Z
URL:https://altamann.com/events/the-swingin-hermlins/
SUMMARY:The Swingin' Hermlins
DESCRIPTION:The Swingin' Hermlins - Ich glaube an das Original. Ich glaube 
 an die Bands der 30er Jahre\, an ihren Sound\, an ihre Eleganz. Musik wird
  nicht nur gehört\, sie wird auch gesehen -Andrej Hermlin 
ATTACH;FMTTYPE=image/jpeg:https://altamann.com/wp-content/uploads/2022/08/
 The-Swingin-Hermlins-Live.webp
LOCATION:Yorckschlösschen\, Yorckstraße 15\, 10965 Berlin\, Deutschland
X-APPLE-STRUCTURED-LOCATION;VALUE=URI;X-ADDRESS=Yorckstraße 15\, 10965 Ber
 lin\, Deutschland;X-APPLE-RADIUS=100;X-TITLE=Yorckschlösschen:geo:0,0
END:VEVENT
BEGIN:VTIMEZONE
TZID:Europe/Berlin
X-LIC-LOCATION:Europe/Berlin
BEGIN:STANDARD
DTSTART:20241027T020000
TZOFFSETFROM:+0200
TZOFFSETTO:+0100
TZNAME:CET
END:STANDARD
END:VTIMEZONE
END:VCALENDAR