BEGIN:VCALENDAR
VERSION:2.0
PRODID:-//wp-events-plugin.com//7.2.3.1//EN
TZID:Europe/Berlin
X-WR-TIMEZONE:Europe/Berlin
BEGIN:VEVENT
UID:264@altamann.com
DTSTART;TZID=Europe/Berlin:20230408T200000
DTEND;TZID=Europe/Berlin:20230408T230000
DTSTAMP:20230121T172141Z
URL:https://altamann.com/events/tom-rascal-the-lakeland-cowboys-your-kind-
 of-country/
SUMMARY:Tom Rascal & The Lakeland Cowboys ... your kind of country!
DESCRIPTION:Die Lakeland Cowboys formierten sich Ende 2017 um den Frontmann
  Tom Rascal\, der mit anderen Formationen\, wie Rascal and Mclane\, in den
  vergangenen 17 Jahren auf nationalen und internationalen Bühnen sehr erf
 olgreich unterwegs war und etliche nationale und internationale Auszeichnu
 ngen\, wie Deutscher Rock und Pop-Preis\, ACMF-Awards\, etc… einfahren k
 onnte.
ATTACH;FMTTYPE=image/jpeg:https://altamann.com/wp-content/uploads/2023/01/
 Tom-Rascal-The-Lakeland-Cowboys.webp
LOCATION:American Western Saloon - Berlin\, Königshorster Straße 6 (Wilhe
 lmsruher Damm 142 c)\, 13439 Berlin\, Deutschland
X-APPLE-STRUCTURED-LOCATION;VALUE=URI;X-ADDRESS=Königshorster Straße 6 (W
 ilhelmsruher Damm 142 c)\, 13439 Berlin\, Deutschland;X-APPLE-RADIUS=100;X
 -TITLE=American Western Saloon - Berlin:geo:0,0
END:VEVENT
BEGIN:VTIMEZONE
TZID:Europe/Berlin
X-LIC-LOCATION:Europe/Berlin
BEGIN:DAYLIGHT
DTSTART:20230326T030000
TZOFFSETFROM:+0100
TZOFFSETTO:+0200
TZNAME:CEST
END:DAYLIGHT
END:VTIMEZONE
END:VCALENDAR