BEGIN:VCALENDAR
VERSION:2.0
PRODID:-//wp-events-plugin.com//7.2.3.1//EN
TZID:Europe/Berlin
X-WR-TIMEZONE:Europe/Berlin
BEGIN:VEVENT
UID:366@altamann.com
DTSTART;TZID=Europe/Berlin:20230520T200000
DTEND;TZID=Europe/Berlin:20230520T223000
DTSTAMP:20230417T135804Z
URL:https://altamann.com/events/tomatty/
SUMMARY:TOMATTY - Two of the Mountz
DESCRIPTION:TOMATTY - Two of the Mountz - Seit knapp vier Jahrzehnten sind 
 Tommy Linkert (Pedal Steel Guitar) und Matty (Gitarre/Vocal/Harp) in versc
 hiedenen Berliner Bands on Tour\, um ehrliche und echte Country Music und 
 Rock Musik zu verbreiten. Seit 2020 als Duo unterwegs\, im Gepäck Country
 \, Folk und Rock 'n' Roll. Perfekt ausgewählte Acoustic-Covers eher selte
 n gespielter Country Klassiker\, zelebriert auf ihre ganz eigene Art. 
ATTACH;FMTTYPE=image/jpeg:https://altamann.com/wp-content/uploads/2023/02/
 Tomatty-20.5.23.webp
LOCATION:American Western Saloon - Berlin\, Königshorster Straße 6 (Wilhe
 lmsruher Damm 142 c)\, 13439 Berlin\, Deutschland
X-APPLE-STRUCTURED-LOCATION;VALUE=URI;X-ADDRESS=Königshorster Straße 6 (W
 ilhelmsruher Damm 142 c)\, 13439 Berlin\, Deutschland;X-APPLE-RADIUS=100;X
 -TITLE=American Western Saloon - Berlin:geo:0,0
END:VEVENT
BEGIN:VTIMEZONE
TZID:Europe/Berlin
X-LIC-LOCATION:Europe/Berlin
BEGIN:DAYLIGHT
DTSTART:20230326T030000
TZOFFSETFROM:+0100
TZOFFSETTO:+0200
TZNAME:CEST
END:DAYLIGHT
END:VTIMEZONE
END:VCALENDAR