BEGIN:VCALENDAR
VERSION:2.0
PRODID:-//wp-events-plugin.com//7.2.3.1//EN
TZID:Europe/Berlin
X-WR-TIMEZONE:Europe/Berlin
BEGIN:VEVENT
UID:686@altamann.com
DTSTART;TZID=Europe/Berlin:20231209T200000
DTEND;TZID=Europe/Berlin:20231209T223000
DTSTAMP:20231120T155117Z
URL:https://altamann.com/events/tommie-harris-and-the-berlin-blues-allstar
 s/
SUMMARY:Tommie Harris and The Berlin Blues Allstars
DESCRIPTION:Tommie Harris and The Berlin Blues Allstars - Tommie Harris wur
 de 1938 in Bessemer\, Alabama\, geboren. 1959 trat er in die Air Force ein
 \, sein Weg führte ihn von Korea nach Deutschland. 1964 gründete er sein
 e erste Band. Seit 51 Jahren lebt Harris in Deutschland.
ATTACH;FMTTYPE=image/jpeg:https://altamann.com/wp-content/uploads/2023/11/
 Tommie-Harris.webp
LOCATION:Yorckschlösschen\, Yorckstraße 15\, 10965 Berlin\, Deutschland
X-APPLE-STRUCTURED-LOCATION;VALUE=URI;X-ADDRESS=Yorckstraße 15\, 10965 Ber
 lin\, Deutschland;X-APPLE-RADIUS=100;X-TITLE=Yorckschlösschen:geo:0,0
END:VEVENT
BEGIN:VTIMEZONE
TZID:Europe/Berlin
X-LIC-LOCATION:Europe/Berlin
BEGIN:STANDARD
DTSTART:20231029T020000
TZOFFSETFROM:+0200
TZOFFSETTO:+0100
TZNAME:CET
END:STANDARD
END:VTIMEZONE
END:VCALENDAR