BEGIN:VCALENDAR
VERSION:2.0
PRODID:-//wp-events-plugin.com//7.2.3.1//EN
TZID:Europe/Berlin
X-WR-TIMEZONE:Europe/Berlin
BEGIN:VEVENT
UID:627@altamann.com
DTSTART;TZID=Europe/Berlin:20231027T200000
DTEND;TZID=Europe/Berlin:20231027T220000
DTSTAMP:20231011T173601Z
URL:https://altamann.com/events/trinity-of-arts-toa-drei-individualisten-i
 m-einklang-cd-release-concert/
SUMMARY:Trinity Of Arts (TOA) - Drei Individualisten im Einklang! | CD Rele
 ase Concert
DESCRIPTION:Trinity Of Arts _ In Zeiten der Aufklärung und des Umbruchs en
 tstand die Romantik als Gegenentwurf zur nüchternen Weltbetrachtung mit r
 einer Vernunft. Aus den mitunter unmenschlichen Verirrungen der revolution
 ären Ereignisse\, der "Grande Terreur" und dem kollektiven Gefühl der Un
 gewissheit über das\, was folgen würde\, entstand die dunkle Romantik\, 
 die sich mit den Abgründen der menschlichen Existenz und dem Unkontrollie
 rbaren beschäftigt.\n\nWer könnte leugnen\, dass die Menschheit heute\, 
 in Zeiten tiefgreifender globaler Veränderungen\, der Einschränkung pers
 önlicher Freiheiten und des weltweiten Aufstiegs narzisstischer Autokrate
 n\, erneut an einem ungewissen Scheideweg steht?\n\nUnter diesem Einfluss 
 haben sich mit Trinity of Arts drei "Brüder in der Musik" gefunden\, die 
 ihrer Wahrnehmung der Welt und der conditio humana musikalischen\, lyrisch
 en und visuellen Ausdruck verleihen wollen.
ATTACH;FMTTYPE=image/jpeg:https://altamann.com/wp-content/uploads/2023/10/
 Trinity-Of-Arts-Kulturhaus-Spandau-27.10.2023.jpg
LOCATION:Kulturhaus Spandau - Theatersaal\, Mauerstr. 6\, 13597 Berlin\, De
 utschland
X-APPLE-STRUCTURED-LOCATION;VALUE=URI;X-ADDRESS=Mauerstr. 6\, 13597 Berlin\
 , Deutschland;X-APPLE-RADIUS=100;X-TITLE=Kulturhaus Spandau - Theatersaal:
 geo:0,0
END:VEVENT
BEGIN:VTIMEZONE
TZID:Europe/Berlin
X-LIC-LOCATION:Europe/Berlin
BEGIN:DAYLIGHT
DTSTART:20230326T030000
TZOFFSETFROM:+0100
TZOFFSETTO:+0200
TZNAME:CEST
END:DAYLIGHT
END:VTIMEZONE
END:VCALENDAR