BEGIN:VCALENDAR
VERSION:2.0
PRODID:-//wp-events-plugin.com//7.2.3.1//EN
TZID:Europe/Berlin
X-WR-TIMEZONE:Europe/Berlin
BEGIN:VEVENT
UID:1162@altamann.com
DTSTART;TZID=Europe/Berlin:20241218T180000
DTEND;TZID=Europe/Berlin:20241218T220000
DTSTAMP:20241216T100905Z
URL:https://altamann.com/events/trip-to-maas-bei-speiches-r-b-stage/
SUMMARY:Trip To Maas bei Speiches R & B Stage
DESCRIPTION:Trip To Maas - Ein Schuss Blues\, ein bißchen Funk und natürl
 ich Rock ohne Ende.
ATTACH;FMTTYPE=image/jpeg:https://altamann.com/wp-content/uploads/2024/12/
 Trip-To-Maas-18.12.24.webp
LOCATION:Club 23 / im Soda Club Berlin\, Schönhauser Allee 36\, 10435 Berl
 in\, Deutschland
X-APPLE-STRUCTURED-LOCATION;VALUE=URI;X-ADDRESS=Schönhauser Allee 36\, 104
 35 Berlin\, Deutschland;X-APPLE-RADIUS=100;X-TITLE=Club 23 / im Soda Club 
 Berlin:geo:0,0
END:VEVENT
BEGIN:VTIMEZONE
TZID:Europe/Berlin
X-LIC-LOCATION:Europe/Berlin
BEGIN:STANDARD
DTSTART:20241027T020000
TZOFFSETFROM:+0200
TZOFFSETTO:+0100
TZNAME:CET
END:STANDARD
END:VTIMEZONE
END:VCALENDAR