BEGIN:VCALENDAR
VERSION:2.0
PRODID:-//wp-events-plugin.com//7.2.3.1//EN
TZID:Europe/Berlin
X-WR-TIMEZONE:Europe/Berlin
BEGIN:VEVENT
UID:338@altamann.com
DTSTART;TZID=Europe/Berlin:20230622T200000
DTEND;TZID=Europe/Berlin:20230622T220000
DTSTAMP:20230530T204040Z
URL:https://altamann.com/events/velcro-dog-norwegen/
SUMMARY:Velcro Dog | Norwegen
DESCRIPTION:Velcro Dog ist das Soloprojekt des norwegischen Musikers und So
 ngwriters Tony Gonzalez (Barren Womb\, Oma Desala\, Twin Serpent\, Dårli 
 Te Beins). Geboren aus dem unaufhörlichen Bedürfnis\, sich mit alten und
  neuen Geistern auseinanderzusetzen\, schleicht Velcro Dog durch die dunke
 lsten Ecken der Folk-\, Americana- und Country-Traditionen und kreiert ein
 en Sound\, der vielleicht am besten als Fjord Noir bezeichnet werden kann.
ATTACH;FMTTYPE=image/jpeg:https://altamann.com/wp-content/uploads/2023/02/
 Velcro-Dog.webp
LOCATION:ART Stalker\, Kaiser-Friedrich-Straße 67\, 10627 Berlin\, Deutsch
 land
X-APPLE-STRUCTURED-LOCATION;VALUE=URI;X-ADDRESS=Kaiser-Friedrich-Straße 67
 \, 10627 Berlin\, Deutschland;X-APPLE-RADIUS=100;X-TITLE=ART Stalker:geo:0
 ,0
END:VEVENT
BEGIN:VTIMEZONE
TZID:Europe/Berlin
X-LIC-LOCATION:Europe/Berlin
BEGIN:DAYLIGHT
DTSTART:20230326T030000
TZOFFSETFROM:+0100
TZOFFSETTO:+0200
TZNAME:CEST
END:DAYLIGHT
END:VTIMEZONE
END:VCALENDAR