BEGIN:VCALENDAR
VERSION:2.0
PRODID:-//wp-events-plugin.com//7.2.3.1//EN
TZID:Europe/Berlin
X-WR-TIMEZONE:Europe/Berlin
BEGIN:VEVENT
UID:722@altamann.com
DTSTART;TZID=Europe/Berlin:20240425T200000
DTEND;TZID=Europe/Berlin:20240425T223000
DTSTAMP:20240108T202334Z
URL:https://altamann.com/events/walter-trout-broken-european-tour-2024/
SUMMARY:Walter Trout | Broken - European Tour 2024 +++ IM VORVERKAUF +++
DESCRIPTION:Walter Trout - Walter Trout gilt als einer der besten Gitarrist
 en überhaupt\, vielfach wird er in einem Atemzug mit Eric Clapton oder Ji
 mi Hendrix erwähnt. Seine Musik stellt eine gelungene Synthese zwischen B
 lues und Rock dar.\n\nSeit 1968 spielte Walter Trout bei verschiedenen Ban
 ds und Musikern\, so z.B. von 1979-1980 beim legendären Bluesmusiker John
  Lee Hooker. Von 1980 bis 1984 war Trout Mitglied in der Band Canned Heat\
 , bevor er sich 1984-1989 John Mayall anschloss. 1989 gründete er die Wal
 ter Trout Band\, die sich ab 1999 in Walter Trout & the Radicals umbenannt
 e.
ATTACH;FMTTYPE=image/jpeg:https://altamann.com/wp-content/uploads/2024/01/
 Walter-Trout.webp
LOCATION:Kesselhaus | Maschinenhaus in der Kulturbrauerei Berlin\, Knaackst
 raße 97\, 10435 Berlin\, Deutschland
X-APPLE-STRUCTURED-LOCATION;VALUE=URI;X-ADDRESS=Knaackstraße 97\, 10435 Be
 rlin\, Deutschland;X-APPLE-RADIUS=100;X-TITLE=Kesselhaus | Maschinenhaus i
 n der Kulturbrauerei Berlin:geo:0,0
END:VEVENT
BEGIN:VTIMEZONE
TZID:Europe/Berlin
X-LIC-LOCATION:Europe/Berlin
BEGIN:DAYLIGHT
DTSTART:20240331T030000
TZOFFSETFROM:+0100
TZOFFSETTO:+0200
TZNAME:CEST
END:DAYLIGHT
END:VTIMEZONE
END:VCALENDAR