BEGIN:VCALENDAR
VERSION:2.0
PRODID:-//wp-events-plugin.com//7.2.3.1//EN
TZID:Europe/Berlin
X-WR-TIMEZONE:Europe/Berlin
BEGIN:VEVENT
UID:1273@altamann.com
DTSTART;TZID=Europe/Berlin:20251213T210000
DTEND;TZID=Europe/Berlin:20251213T233000
DTSTAMP:20250725T181114Z
URL:https://altamann.com/events/wildflowers-im-musicclub-schmoelln/
SUMMARY:Wildflowers im MusicClub Schmölln
DESCRIPTION:Wildflowers im MusicClub Schmölln - Tribute to Tom Petty - Sie
  kennen und schätzen sich seit Jahren und haben schon in den unterschiedl
 ichsten Besetzungen zusammen gespielt. Auch die Verehrung des 2017 verstor
 benen amerikanischen Sängers und Gitarristen Tom Petty und seines musikal
 ischen Erbes war allen gemeinsam. Was lag da näher\, als es mal in einem 
 konkreten Projekt zusammen zu versuchen und mit den zusammen ausgewählten
  Songs aus dem umfangreichen Songbook des Meisters die Bühne zu rocken. U
 nd wie das rockt!!! 
ATTACH;FMTTYPE=image/jpeg:https://altamann.com/wp-content/uploads/2025/07/
 Wildflowers.webp
LOCATION:MusicClub Schmölln\, An der Sprotte 5/1\, 04626 Schmölln \, Deut
 schland
X-APPLE-STRUCTURED-LOCATION;VALUE=URI;X-ADDRESS=An der Sprotte 5/1\, 04626 
 Schmölln \, Deutschland;X-APPLE-RADIUS=100;X-TITLE=MusicClub Schmölln:ge
 o:0,0
END:VEVENT
BEGIN:VTIMEZONE
TZID:Europe/Berlin
X-LIC-LOCATION:Europe/Berlin
BEGIN:STANDARD
DTSTART:20251026T020000
TZOFFSETFROM:+0200
TZOFFSETTO:+0100
TZNAME:CET
END:STANDARD
END:VTIMEZONE
END:VCALENDAR