BEGIN:VCALENDAR
VERSION:2.0
PRODID:-//wp-events-plugin.com//7.2.3.1//EN
TZID:Europe/Berlin
X-WR-TIMEZONE:Europe/Berlin
BEGIN:VEVENT
UID:1045@altamann.com
DTSTART;TZID=Europe/Berlin:20241003T203000
DTEND;TZID=Europe/Berlin:20241003T230000
DTSTAMP:20240819T210742Z
URL:https://altamann.com/events/zed-mitchell-band/
SUMMARY:Zed Mitchell Band +++ IM VORVERKAUF! +++
DESCRIPTION:Zed Mitchell Band - Der Bandleader\, Sänger und Gitarrist Zed 
 Mitchell (mit bürgerlichem Namen Zlatko Manojlovic) aus Krusevac (ehemali
 ges Jugoslawien) ist einer der besten Session-Gitarristen Europas\, wurde 
 mit Mark Knopfler\, Peter Green\, Eric Clapton\, Robert Cray\, JJ Cale und
  Chris Rea verglichen\, aber er hat seinen eigenen einzigartigen Stil\, de
 r im Blues verwurzelt ist\, aber eine breitere musikalische Vision mit sic
 h bringt lebendige lyrische Bedeutung. 
ATTACH;FMTTYPE=image/jpeg:https://altamann.com/wp-content/uploads/2024/07/
 Zed-Mitchell-Band.webp
LOCATION:Hafenbar Tegel\, Wilkestraße 1-5\, 13507 Berlin\, Deutschland
X-APPLE-STRUCTURED-LOCATION;VALUE=URI;X-ADDRESS=Wilkestraße 1-5\, 13507 Be
 rlin\, Deutschland;X-APPLE-RADIUS=100;X-TITLE=Hafenbar Tegel:geo:0,0
END:VEVENT
BEGIN:VTIMEZONE
TZID:Europe/Berlin
X-LIC-LOCATION:Europe/Berlin
BEGIN:DAYLIGHT
DTSTART:20240331T030000
TZOFFSETFROM:+0100
TZOFFSETTO:+0200
TZNAME:CEST
END:DAYLIGHT
END:VTIMEZONE
END:VCALENDAR