BEGIN:VCALENDAR
VERSION:2.0
PRODID:-//wp-events-plugin.com//7.2.3.1//EN
TZID:Europe/Berlin
X-WR-TIMEZONE:Europe/Berlin
BEGIN:VEVENT
UID:1166@altamann.com
DTSTART;TZID=Europe/Berlin:20251002T180000
DTEND;TZID=Europe/Berlin:20251002T214500
DTSTAMP:20250713T092548Z
URL:https://altamann.com/events/zig-zag-die-party-sensation-im-kulturresta
 urant-dicke-paula-4/
SUMMARY:ZIG-ZAG | Die Party-Sensation im Kulturrestaurant Dicke Paula
DESCRIPTION:ZIG ZAG - Das Electro-Pop Projekt aus Berlin ist ein Party - Er
 lebnis. Mit Ihren groovigen Tracks bringen Zig-Zag Jede Party zum Kochen!!
 !!
ATTACH;FMTTYPE=image/jpeg:https://altamann.com/wp-content/uploads/2025/01/
 ZIG-ZAG-Konzerte-2025-2026.webp
LOCATION:Kulturrestaurant Dicke Paula\, Schlieperstraße 69\, 13507 Berlin\
 , Deutschland
X-APPLE-STRUCTURED-LOCATION;VALUE=URI;X-ADDRESS=Schlieperstraße 69\, 13507
  Berlin\, Deutschland;X-APPLE-RADIUS=100;X-TITLE=Kulturrestaurant Dicke Pa
 ula:geo:0,0
END:VEVENT
BEGIN:VTIMEZONE
TZID:Europe/Berlin
X-LIC-LOCATION:Europe/Berlin
BEGIN:DAYLIGHT
DTSTART:20250330T030000
TZOFFSETFROM:+0100
TZOFFSETTO:+0200
TZNAME:CEST
END:DAYLIGHT
END:VTIMEZONE
END:VCALENDAR